BEGIN:VCALENDAR
VERSION:2.0
PRODID:-//Wir Wollen Vielfalt - ECPv6.15.20//NONSGML v1.0//EN
CALSCALE:GREGORIAN
METHOD:PUBLISH
X-ORIGINAL-URL:https://wir-wollen-vielfalt.de
X-WR-CALDESC:Veranstaltungen für Wir Wollen Vielfalt
REFRESH-INTERVAL;VALUE=DURATION:PT1H
X-Robots-Tag:noindex
X-PUBLISHED-TTL:PT1H
BEGIN:VTIMEZONE
TZID:Europe/Helsinki
BEGIN:DAYLIGHT
TZOFFSETFROM:+0200
TZOFFSETTO:+0300
TZNAME:EEST
DTSTART:20140330T010000
END:DAYLIGHT
BEGIN:STANDARD
TZOFFSETFROM:+0300
TZOFFSETTO:+0200
TZNAME:EET
DTSTART:20141026T010000
END:STANDARD
BEGIN:DAYLIGHT
TZOFFSETFROM:+0200
TZOFFSETTO:+0300
TZNAME:EEST
DTSTART:20150329T010000
END:DAYLIGHT
BEGIN:STANDARD
TZOFFSETFROM:+0300
TZOFFSETTO:+0200
TZNAME:EET
DTSTART:20151025T010000
END:STANDARD
BEGIN:DAYLIGHT
TZOFFSETFROM:+0200
TZOFFSETTO:+0300
TZNAME:EEST
DTSTART:20160327T010000
END:DAYLIGHT
BEGIN:STANDARD
TZOFFSETFROM:+0300
TZOFFSETTO:+0200
TZNAME:EET
DTSTART:20161030T010000
END:STANDARD
END:VTIMEZONE
BEGIN:VEVENT
DTSTART;TZID=Europe/Helsinki:20151101T110000
DTEND;TZID=Europe/Helsinki:20151101T120000
DTSTAMP:20260420T082458
CREATED:20151030T093110Z
LAST-MODIFIED:20151030T093110Z
UID:2289-1446375600-1446379200@wir-wollen-vielfalt.de
SUMMARY:Das Zelt Gottes bei den Menschen
DESCRIPTION:Festgottesdienst 35 Jahre NEUE ARBEIT der Diakonie Essen
URL:https://wir-wollen-vielfalt.de/event/das-zelt-gottes-bei-den-menschen/
LOCATION:Kreuzeskirche Essen\, Kreuzeskirchstrasse/Weberplatz\, Essen\, 45141
CATEGORIES:Aussteller Tipi
END:VEVENT
BEGIN:VEVENT
DTSTART;VALUE=DATE:20150927
DTEND;VALUE=DATE:20150928
DTSTAMP:20260420T082458
CREATED:20150803T115608Z
LAST-MODIFIED:20150803T115608Z
UID:2196-1443312000-1443398399@wir-wollen-vielfalt.de
SUMMARY:27.09.2015\, Herbstfest zum Erntedank an der Christuskirche in Meckenheim
DESCRIPTION:10 Uhr Gottesdienst \nanschließend Frühschoppen mit „Hot Jazz Five“ \nSpielangebote für Kinder \nTheatervorstellung „Die  kleine Hexe“ \nMitmachaktion „Wir häkeln Vielfalter“ im Tipi
URL:https://wir-wollen-vielfalt.de/event/27-09-2015-herbstfest-zum-erntedank-an-der-christuskirche-in-meckenheim/
LOCATION:Christuskirche Meckenheim\, Dechant-Kreiten-Straße\, Meckenheim\, 53340
END:VEVENT
BEGIN:VEVENT
DTSTART;VALUE=DATE:20150927
DTEND;VALUE=DATE:20150928
DTSTAMP:20260420T082458
CREATED:20141211T121811Z
LAST-MODIFIED:20141211T175721Z
UID:1812-1443312000-1443398399@wir-wollen-vielfalt.de
SUMMARY:27.09.2015\, Gemeindefest der Friedenskirche Neuss-Uedesheim
DESCRIPTION:
URL:https://wir-wollen-vielfalt.de/event/27-09-2015-gemeindefest-der-friedenskirche-neuss-uedesheim/
LOCATION:Friedenskirche Neuss-Uedesheim\, Rheinfährstraße 40\, Neuss\, 41468
CATEGORIES:Aussteller Tipi
ORGANIZER;CN="Evangelische Kirchengemeinde Neuss-S%C3%BCd%2C Pfarrerin Annette G%C3%A4rtner":MAILTO:annette.gaertner@ekir.de
END:VEVENT
BEGIN:VEVENT
DTSTART;VALUE=DATE:20150923
DTEND;VALUE=DATE:20151001
DTSTAMP:20260420T082458
CREATED:20150402T125051Z
LAST-MODIFIED:20150402T125308Z
UID:2021-1442966400-1443657599@wir-wollen-vielfalt.de
SUMMARY:23.-30.09.2015\, Vielfalt vor Ort (VivO) in Bonn-Beuel
DESCRIPTION:Inklusionsfest am 26.09.2015 ab 11 Uhr
URL:https://wir-wollen-vielfalt.de/event/23-30-09-2015-vielfalt-vor-ort-vivo/
LOCATION:Bonn-Beuel\, Bonn-Beuel-Mitte\, 53225
CATEGORIES:Aussteller Tipi
ORGANIZER;CN="Paul-Gerhard-Grundschule%2C Realschule Beuel%2C Gartenschule%2C Familienzentrum %E2%80%9CAm Stadion%E2%80%9D%2C Kindertagesst%C3%A4tte Windrad%2C Jugendtreff Flax%2C Kindertagesst%C3%A4tte Aktion Regenbogen%2C Mitarbeitende des VivO-Vielfaltsgarten":MAILTO:alexandra.tegtmeier@hotmail.de
END:VEVENT
BEGIN:VEVENT
DTSTART;TZID=Europe/Helsinki:20150920T130000
DTEND;TZID=Europe/Helsinki:20150920T180000
DTSTAMP:20260420T082458
CREATED:20150415T150659Z
LAST-MODIFIED:20150415T150749Z
UID:2046-1442754000-1442772000@wir-wollen-vielfalt.de
SUMMARY:20.09.2015\, Familienfest der Pfarrstelle für Behindertenarbeit
DESCRIPTION:Geschlossene Veranstaltung\, nur für geladene Gäste.
URL:https://wir-wollen-vielfalt.de/event/20-09-2015-familienfest-der-pfarrstelle-fuer-behindertenarbeit/
LOCATION:Evangelische Kirchengemeinde St.Augustin-Hangelar\, An der Evangelischen Kirche 1-3\, St. Augustin\, 53757
CATEGORIES:Aussteller Tipi
ORGANIZER;CN="Pfarrstelle f%C3%BCr Behindertenarbeit des Evangelischen Kirchenkreises An Sieg und Rhein%2C Pfarrer Paul Zenner":MAILTO:info@pfarrstelle-fuer-behindertenarbeit.de
END:VEVENT
BEGIN:VEVENT
DTSTART;VALUE=DATE:20150920
DTEND;VALUE=DATE:20150921
DTSTAMP:20260420T082458
CREATED:20141114T091141Z
LAST-MODIFIED:20141114T091141Z
UID:1782-1442707200-1442793599@wir-wollen-vielfalt.de
SUMMARY:20.09.2015\, Wir haben Vielfalt! - Ökumenisches Gemeindefest in Weckhoven
DESCRIPTION:
URL:https://wir-wollen-vielfalt.de/event/20-09-2015-wir-haben-vielfalt-oekumenisches-gemeindefest-in-weckhoven/
LOCATION:Evangelische Auferstehungskirche Neuss-Weckhoven\, Gohrer Straße 41\, Neuss-Weckhoven\, 41466
CATEGORIES:Aussteller Tipi
ORGANIZER;CN="Evangelische Kirchengemeinde Neuss-S%C3%BCd%2C Pfarrerin Ulrike Bartkiewitz":MAILTO:bartkiewitz.u@arcor.de
END:VEVENT
BEGIN:VEVENT
DTSTART;VALUE=DATE:20150920
DTEND;VALUE=DATE:20150921
DTSTAMP:20260420T082458
CREATED:20140606T104506Z
LAST-MODIFIED:20141211T175542Z
UID:1434-1442707200-1442793599@wir-wollen-vielfalt.de
SUMMARY:20.09.2015\, Fest der Kulturen Bergisch Gladbach
DESCRIPTION:
URL:https://wir-wollen-vielfalt.de/event/20-09-2015-fest-der-kulturen-bergisch-gladbach/
LOCATION:Evangelische Gnadenkirche Bergisch Gladbach\, Hauptstraße 256\, Bergisch Gladbach\, 51465
CATEGORIES:Aussteller Tipi
ORGANIZER;CN="Evangelische Kirchengemeinde Bergisch Gladbach":MAILTO:n.mrziglod@mgh-gl.de
END:VEVENT
BEGIN:VEVENT
DTSTART;TZID=Europe/Helsinki:20150919T100000
DTEND;TZID=Europe/Helsinki:20150919T170000
DTSTAMP:20260420T082458
CREATED:20150128T125815Z
LAST-MODIFIED:20150319T103536Z
UID:1894-1442656800-1442682000@wir-wollen-vielfalt.de
SUMMARY:19.09.2015\, 28. Rheinischer KinderGottesDienst-Tag
DESCRIPTION:für Mitarbeitende aus Kindergottesdiensten\, Kinderbibeltagen\, Kitas und Schulen\nAnmeldung erforderlich\nkigo@ekir.de
URL:https://wir-wollen-vielfalt.de/event/19-09-2015-kindergottesdiensttag/
LOCATION:Solingen-Ohligs\, Evangelische und Katholische Kirche\, Gesamtschule Uhlandstraße
CATEGORIES:Aussteller Tipi
END:VEVENT
BEGIN:VEVENT
DTSTART;TZID=Europe/Helsinki:20150906T100000
DTEND;TZID=Europe/Helsinki:20150906T150000
DTSTAMP:20260420T082458
CREATED:20150521T141218Z
LAST-MODIFIED:20150522T095743Z
UID:2104-1441533600-1441551600@wir-wollen-vielfalt.de
SUMMARY:06.09.2015\, Gottesdienst und Gemeindefest der Evangelischen Christuskirchengemeinde Mönchengladbach
DESCRIPTION:
URL:https://wir-wollen-vielfalt.de/event/06-09-2015-gottesdienst-und-gemeindefest-der-evangelischen-christuskirchengemeinde-moenchengladbach/
LOCATION:Hephata-Kirche\, Gustav-Wagner-Weg / Hephataallee\, Mönchengladbach\, 41065
CATEGORIES:Aussteller Tipi
END:VEVENT
BEGIN:VEVENT
DTSTART;VALUE=DATE:20150906
DTEND;VALUE=DATE:20150907
DTSTAMP:20260420T082458
CREATED:20150518T091813Z
LAST-MODIFIED:20150518T091813Z
UID:2094-1441497600-1441583999@wir-wollen-vielfalt.de
SUMMARY:06.09.2015\, Vielfalt. Macht viel mehr möglich
DESCRIPTION:Gemeindetag Sankt Augustin-Mülldorf
URL:https://wir-wollen-vielfalt.de/event/06-09-2015-vielfalt-macht-viel-mehr-moeglich/
LOCATION:St. Augustin-Mülldorf\, Dietrich Bonhoeffer Straße 39\, St. Augustin-Mülldorf\, 53757
CATEGORIES:Aussteller Tipi
ORGANIZER;CN="Evangelische Kirchengemeinde Sankt Augustin Niederpleis und M%C3%BClldorf":MAILTO:almut.vanniekerk@ev-kirche-niederpleis.de
END:VEVENT
BEGIN:VEVENT
DTSTART;VALUE=DATE:20150830
DTEND;VALUE=DATE:20150831
DTSTAMP:20260420T082458
CREATED:20150702T145048Z
LAST-MODIFIED:20150702T150503Z
UID:2181-1440892800-1440979199@wir-wollen-vielfalt.de
SUMMARY:30.08.2015\, Sommerfest der Caritas Eitorf
DESCRIPTION:
URL:https://wir-wollen-vielfalt.de/event/sommerfest-der-caritas-eitorf/
LOCATION:Wohnhaus Villa Gauhe\, Parkstraße 11\, Eitorf \, 53783
CATEGORIES:Aussteller Tipi
ORGANIZER;CN="CBT - Caritas- Betriebsf%C3%BChrungs- und Tr%C3%A4gergesellschaft mbH":MAILTO:r.maurer@cbt-gmbh.de
END:VEVENT
BEGIN:VEVENT
DTSTART;TZID=Europe/Helsinki:20150821T103000
DTEND;TZID=Europe/Helsinki:20150821T113000
DTSTAMP:20260420T082458
CREATED:20150803T112620Z
LAST-MODIFIED:20150803T112620Z
UID:2194-1440153000-1440156600@wir-wollen-vielfalt.de
SUMMARY:21.08.2015\, Ökumenischer Gottesdienst zum Beginn des Schuljahres\, Leichlingen
DESCRIPTION:
URL:https://wir-wollen-vielfalt.de/event/21-08-2015-oekumenischer-gottesdienst-zum-beginn-des-schuljahres-leichlingen/
LOCATION:Sankt-Johannes-Baptist-Kirche\, Lingemannstraße 3\, Leichlingen\, 42799
CATEGORIES:Aussteller Tipi
END:VEVENT
BEGIN:VEVENT
DTSTART;VALUE=DATE:20150821
DTEND;VALUE=DATE:20150901
DTSTAMP:20260420T082458
CREATED:20141211T175236Z
LAST-MODIFIED:20141211T175236Z
UID:1815-1440115200-1441065599@wir-wollen-vielfalt.de
SUMMARY:21.-31.08.2015\, Markuszentrum Essen-Frohnhausen
DESCRIPTION:
URL:https://wir-wollen-vielfalt.de/event/21-31-08-2015-markuszentrum-essen-frohnhausen/
LOCATION:Markuszentrum Essen-Frohnhausen\, Postreitweg 84\, Essen\, 45145
CATEGORIES:Aussteller Tipi
ORGANIZER;CN="Evangelische Kirchengemeinde Essen-Frohnhausen%2C Susanne Gutjahr-Maurer":MAILTO:s.gutjahr-maurer@t-online.de
END:VEVENT
BEGIN:VEVENT
DTSTART;VALUE=DATE:20150817
DTEND;VALUE=DATE:20150824
DTSTAMP:20260420T082458
CREATED:20150803T112005Z
LAST-MODIFIED:20150803T112005Z
UID:2193-1439769600-1440374399@wir-wollen-vielfalt.de
SUMMARY:17.-21.08.2015\, LVR-Paul-Klee-Schule Leichlingen
DESCRIPTION:
URL:https://wir-wollen-vielfalt.de/event/17-21-08-2015-lvr-paul-klee-schule-leichlingen/
LOCATION:LVR-Paul-Klee-Schule\, Neukirchener Straße 58–60\, Leichlingen\, 42799
CATEGORIES:Aussteller Tipi
END:VEVENT
BEGIN:VEVENT
DTSTART;VALUE=DATE:20150630
DTEND;VALUE=DATE:20150716
DTSTAMP:20260420T082458
CREATED:20150129T082847Z
LAST-MODIFIED:20150310T100352Z
UID:1895-1435622400-1437004799@wir-wollen-vielfalt.de
SUMMARY:30.06.-15.07.2015\, Evangelisch-lutherischer Kirchenkreisverband Osnabrück-Stadt und -Land
DESCRIPTION:
URL:https://wir-wollen-vielfalt.de/event/27-06-13-07-2015-evangelisch-lutherischer-kirchenkreisverband-osnabrueck-stadt-und-land/
LOCATION:Evangelisch-lutherischer Kirchenkreisverband Osnabrück-Stadt und -Land
CATEGORIES:Aussteller Tipi
ORGANIZER;CN="Die Inklusionsbeauftragte des Evangelisch-lutherischen Kirchenkreisverbands Osnabr%C3%BCck-Stadt und -Land":MAILTO:birgit.jaeger@evlka.de
END:VEVENT
BEGIN:VEVENT
DTSTART;VALUE=DATE:20150626
DTEND;VALUE=DATE:20150630
DTSTAMP:20260420T082458
CREATED:20150310T100620Z
LAST-MODIFIED:20150310T101927Z
UID:1979-1435276800-1435622399@wir-wollen-vielfalt.de
SUMMARY:26.6.-29.06.2015\, Zelt-Wochenende\, Work-Camp und Sommerfest der Arche Tecklenburg
DESCRIPTION:
URL:https://wir-wollen-vielfalt.de/event/26-29-06-2015-zelt-wochenende-work-camp-und-sommerfest-der-arche-tecklenburg/
LOCATION:Haus Apfelallee\, Arche Tecklenburg\, Wohn- und Lebensgemeinschaft von Menschen mit und ohne Behinderung\, Apfelallee 23\, Tecklenburg\, 49545
CATEGORIES:Aussteller Tipi
ORGANIZER;CN="Die Arche Tecklenburg":MAILTO:tecklenburg@arche-deutschland.de
END:VEVENT
BEGIN:VEVENT
DTSTART;VALUE=DATE:20150622
DTEND;VALUE=DATE:20150629
DTSTAMP:20260420T082458
CREATED:20150114T085259Z
LAST-MODIFIED:20150114T085259Z
UID:1871-1434931200-1435535999@wir-wollen-vielfalt.de
SUMMARY:22.-28.06.2015\, Evangelische Kirchengemeinde Essen-Bergerhausen
DESCRIPTION:
URL:https://wir-wollen-vielfalt.de/event/22-28-06-2015-evangelische-kirchengemeinde-essen-bergerhausen/
LOCATION:Evangelische Kirchengemeinde Essen-Bergerhausen\, Elbestraße 35\, Essen-Bergerhausen\, 45136\, Deutschland
CATEGORIES:Aussteller Tipi
ORGANIZER;CN="Evangelischer Kirchenkreis Essen":MAILTO:christine.stoppig@evkirche-essen.de
END:VEVENT
BEGIN:VEVENT
DTSTART;VALUE=DATE:20150616
DTEND;VALUE=DATE:20150901
DTSTAMP:20260420T082458
CREATED:20141121T091450Z
LAST-MODIFIED:20150803T112819Z
UID:1800-1434412800-1441065599@wir-wollen-vielfalt.de
SUMMARY:16.06.-17.08.2015\, Hackhauser Hof\, Solingen
DESCRIPTION:
URL:https://wir-wollen-vielfalt.de/event/16-06-31-08-2015-hackhauser-hof-solingen/
LOCATION:Hackhauser Hof\, Hackhausen 5 b\, Solingen\, 42697
CATEGORIES:Aussteller Tipi
ORGANIZER;CN="Hackhauser Hof e.V. - Evangelische Jugendbildungsst%C3%A4tte":MAILTO:drews@hackhauser-hof.de
END:VEVENT
BEGIN:VEVENT
DTSTART;VALUE=DATE:20150615
DTEND;VALUE=DATE:20150623
DTSTAMP:20260420T082458
CREATED:20150114T084427Z
LAST-MODIFIED:20150114T085434Z
UID:1869-1434326400-1435017599@wir-wollen-vielfalt.de
SUMMARY:15.-22.06.2015\, Schulreferat in der Evangelischen Kirchengemeinde Essen-Rüttenscheid
DESCRIPTION:
URL:https://wir-wollen-vielfalt.de/event/15-22-06-2015-schulreferat-in-der-evangelischen-kirchengemeinde-ruettenscheid/
LOCATION:Evangelische Kirchengemeinde Essen-Rüttenscheid\, Julienstraße 41\, Essen-Rüttenscheid\, 45130\, Deutschland
CATEGORIES:Aussteller Tipi
ORGANIZER;CN="Evangelischer Kirchenkreis Essen":MAILTO:christine.stoppig@evkirche-essen.de
END:VEVENT
BEGIN:VEVENT
DTSTART;VALUE=DATE:20150612
DTEND;VALUE=DATE:20150614
DTSTAMP:20260420T082458
CREATED:20140913T110445Z
LAST-MODIFIED:20150114T083745Z
UID:1591-1434067200-1434239999@wir-wollen-vielfalt.de
SUMMARY:12.-13.06.2015\, Synode des Evangelischen Kirchenkreises Essen
DESCRIPTION:
URL:https://wir-wollen-vielfalt.de/event/12-13-06-2015-synode-des-evangelischen-kirchenkreises-essen/
LOCATION:Essen\, Essen\, 45127
CATEGORIES:Aussteller Tipi
ORGANIZER;CN="Evangelischer Kirchenkreis Essen":MAILTO:christine.stoppig@evkirche-essen.de
END:VEVENT
BEGIN:VEVENT
DTSTART;VALUE=DATE:20150603
DTEND;VALUE=DATE:20150608
DTSTAMP:20260420T082458
CREATED:20140913T105536Z
LAST-MODIFIED:20150114T090308Z
UID:1589-1433289600-1433721599@wir-wollen-vielfalt.de
SUMMARY:03.-07.06.2015\, Deutscher Evangelischer Kirchentag in Stuttgart
DESCRIPTION:
URL:https://wir-wollen-vielfalt.de/event/03-07-06-2015-deutscher-evangelischer-kirchentag/
LOCATION:Cannstatter Wasen\, Stuttgart\, Mercedessraße\, Stuttgart\, 70372\, Deutschland
CATEGORIES:Aussteller Tipi,Straßenstrick
ORGANIZER;CN="Wir wollen Vielfalt":MAILTO:info@wir-wollen-vielfalt.de
END:VEVENT
BEGIN:VEVENT
DTSTART;VALUE=DATE:20150601
DTEND;VALUE=DATE:20150607
DTSTAMP:20260420T082458
CREATED:20150114T083558Z
LAST-MODIFIED:20150114T083558Z
UID:1867-1433116800-1433635199@wir-wollen-vielfalt.de
SUMMARY:01.-11.06.2015\, Wohngemeinschaft am Heidehang\, Essen
DESCRIPTION:
URL:https://wir-wollen-vielfalt.de/event/01-11-06-2015-wohngemeinschaft-am-heidehang-essen/
LOCATION:Wohngemeinschaft am Heidehang\, Heidehang 7\, Essen (Ruhr)\, 45134\, Deutschland
CATEGORIES:Aussteller Tipi
ORGANIZER;CN="Evangelischer Kirchenkreis Essen":MAILTO:christine.stoppig@evkirche-essen.de
END:VEVENT
BEGIN:VEVENT
DTSTART;VALUE=DATE:20150531
DTEND;VALUE=DATE:20150601
DTSTAMP:20260420T082458
CREATED:20150310T113331Z
LAST-MODIFIED:20150310T113331Z
UID:1985-1433030400-1433116799@wir-wollen-vielfalt.de
SUMMARY:31.05.2015\, Stadtkirchenfest Troisdorf
DESCRIPTION:
URL:https://wir-wollen-vielfalt.de/event/31-05-2015-stadtkirchenfest-troisdorf/
LOCATION:Viktoriastraße\, Troisdorf\, Viktoriastraße\, Troisdorf\, 53840
CATEGORIES:Aussteller Tipi
ORGANIZER;CN="Evangelische Kirchengemeinde Troisdorf":MAILTO:lunkenheimer@evangelischtroisdorf.de
END:VEVENT
BEGIN:VEVENT
DTSTART;TZID=Europe/Helsinki:20150530T140000
DTEND;TZID=Europe/Helsinki:20150530T180000
DTSTAMP:20260420T082458
CREATED:20150518T093844Z
LAST-MODIFIED:20150518T093844Z
UID:2097-1432994400-1433008800@wir-wollen-vielfalt.de
SUMMARY:30.05.2015\, Schulfest LVR-Paul-Klee-Schule\, Leichlingen
DESCRIPTION:Mitstricken und Mithäkeln rund um das Tipi – wuppernah – Ein Hingucker am Wanderweg – Woll-Spenden willkommen für das Wir-wollen-Vielfalt-Projekt der Schule
URL:https://wir-wollen-vielfalt.de/event/30-05-2015-schulfest-lvr-paul-klee-schule-leichlingen/
LOCATION:LVR-Paul-Klee-Schule\, Neukirchener Straße 58–60\, Leichlingen\, 42799
CATEGORIES:Aussteller Tipi
END:VEVENT
BEGIN:VEVENT
DTSTART;VALUE=DATE:20150518
DTEND;VALUE=DATE:20150528
DTSTAMP:20260420T082458
CREATED:20150330T152108Z
LAST-MODIFIED:20150330T152108Z
UID:2011-1431907200-1432771199@wir-wollen-vielfalt.de
SUMMARY:18.05 - 27.05.2015\, Einheit in Vielfalt - Pfingstliches Miteinander
DESCRIPTION:
URL:https://wir-wollen-vielfalt.de/event/18-05-27-05-2015-einheit-in-vielfalt-pfingstliches-miteinander/
LOCATION:Pauluskirche Hamm\, Marktplatz\, Hamm\, 59065
CATEGORIES:Aussteller Tipi
ORGANIZER;CN="Evangelische Kirchengemeinde Hamm%2C Katholische Kirche Hamm-Mitte-Osten%2C Interkulturelles Frauenfr%C3%BChst%C3%BCckforum IFF Hamm%2C Verein Ich + Du":MAILTO:MKHagenschneider@t-online.de
END:VEVENT
BEGIN:VEVENT
DTSTART;VALUE=DATE:20150513
DTEND;VALUE=DATE:20150519
DTSTAMP:20260420T082458
CREATED:20150114T082915Z
LAST-MODIFIED:20150114T083044Z
UID:1865-1431475200-1431993599@wir-wollen-vielfalt.de
SUMMARY:13.-18.05.2015\, Kirche auf der Billebrinkhöhe\, Essen
DESCRIPTION:
URL:https://wir-wollen-vielfalt.de/event/13-18-05-2015-kirche-auf-der-billebrinkhoehe-essen/
LOCATION:Kirche auf der Billebrinkhöhe\, Billebrinkhöhe 72\, Essen (Ruhr)\, 45136\, Deutschland
CATEGORIES:Aussteller Tipi
ORGANIZER;CN="Evangelischer Kirchenkreis Essen":MAILTO:christine.stoppig@evkirche-essen.de
END:VEVENT
BEGIN:VEVENT
DTSTART;TZID=Europe/Helsinki:20150505T160000
DTEND;TZID=Europe/Helsinki:20150505T190000
DTSTAMP:20260420T082458
CREATED:20140913T104637Z
LAST-MODIFIED:20150114T090404Z
UID:1586-1430841600-1430852400@wir-wollen-vielfalt.de
SUMMARY:05.05.2015\, Aktionstag zur Gleichstellung von Menschen mit Behinderung\, Bonn
DESCRIPTION:
URL:https://wir-wollen-vielfalt.de/event/05-05-2015-aktionstag-zur-gleichstellung-von-menschen-mit-behinderung/
LOCATION:Münsterplatz Bonn\, Münsterplatz\, Bonn
CATEGORIES:Aussteller Tipi
ORGANIZER;CN="Pfarrerin Katrin W%C3%BCst":MAILTO:katrin.wuest@ekir.de
END:VEVENT
BEGIN:VEVENT
DTSTART;VALUE=DATE:20150504
DTEND;VALUE=DATE:20150508
DTSTAMP:20260420T082458
CREATED:20150504T150520Z
LAST-MODIFIED:20150506T121317Z
UID:2060-1430697600-1431043199@wir-wollen-vielfalt.de
SUMMARY:04.-07.05.2015\, Vielfaltertage im Kirchenpavillon Bonn
DESCRIPTION:
URL:https://wir-wollen-vielfalt.de/event/kirchenpavillon-bonn/
LOCATION:Kirchenpavillon Bonn\, Kaiserplatz 1a\, Bonn\, 53111
CATEGORIES:Aussteller Tipi
ORGANIZER;CN="Kirchenpavillon Bonn":MAILTO:u.verwold@kirchenpavillon.de
END:VEVENT
BEGIN:VEVENT
DTSTART;VALUE=DATE:20150425
DTEND;VALUE=DATE:20150427
DTSTAMP:20260420T082458
CREATED:20140913T103513Z
LAST-MODIFIED:20150114T081902Z
UID:1582-1429920000-1430092799@wir-wollen-vielfalt.de
SUMMARY:25.-26.04.2015\, Evangelische Marktkirche Essen
DESCRIPTION:
URL:https://wir-wollen-vielfalt.de/event/25-26-04-2015-evangelische-marktkirche-essen/
LOCATION:Evangelische Marktkirche\, Marktstraße 2\, Essen (Ruhr)\, 45127\, Deutschland
CATEGORIES:Aussteller Tipi
ORGANIZER;CN="Evangelischer Kirchenkreis Essen":MAILTO:christine.stoppig@evkirche-essen.de
END:VEVENT
BEGIN:VEVENT
DTSTART;VALUE=DATE:20150420
DTEND;VALUE=DATE:20150428
DTSTAMP:20260420T082458
CREATED:20141114T110314Z
LAST-MODIFIED:20150114T090139Z
UID:1787-1429488000-1430179199@wir-wollen-vielfalt.de
SUMMARY:20.-27.04.2015\, Inklusionsfest in Lohmar
DESCRIPTION:
URL:https://wir-wollen-vielfalt.de/event/20-27-04-2015-inklusionsfest/
CATEGORIES:Aussteller Tipi
ORGANIZER;CN="Evangelisches Familienzentrum Wahlscheid/Birk":MAILTO:i-stinner@t-online.de
END:VEVENT
END:VCALENDAR